BEGIN:VCALENDAR
VERSION:2.0
PRODID:-//Oakhurst EVFree - ECPv6.15.20//NONSGML v1.0//EN
CALSCALE:GREGORIAN
METHOD:PUBLISH
X-WR-CALNAME:Oakhurst EVFree
X-ORIGINAL-URL:https://www.oakhurstevfree.org
X-WR-CALDESC:Events for Oakhurst EVFree
REFRESH-INTERVAL;VALUE=DURATION:PT1H
X-Robots-Tag:noindex
X-PUBLISHED-TTL:PT1H
BEGIN:VTIMEZONE
TZID:America/Los_Angeles
BEGIN:DAYLIGHT
TZOFFSETFROM:-0800
TZOFFSETTO:-0700
TZNAME:PDT
DTSTART:20150308T100000
END:DAYLIGHT
BEGIN:STANDARD
TZOFFSETFROM:-0700
TZOFFSETTO:-0800
TZNAME:PST
DTSTART:20151101T090000
END:STANDARD
BEGIN:DAYLIGHT
TZOFFSETFROM:-0800
TZOFFSETTO:-0700
TZNAME:PDT
DTSTART:20160313T100000
END:DAYLIGHT
BEGIN:STANDARD
TZOFFSETFROM:-0700
TZOFFSETTO:-0800
TZNAME:PST
DTSTART:20161106T090000
END:STANDARD
BEGIN:DAYLIGHT
TZOFFSETFROM:-0800
TZOFFSETTO:-0700
TZNAME:PDT
DTSTART:20170312T100000
END:DAYLIGHT
BEGIN:STANDARD
TZOFFSETFROM:-0700
TZOFFSETTO:-0800
TZNAME:PST
DTSTART:20171105T090000
END:STANDARD
END:VTIMEZONE
BEGIN:VEVENT
DTSTART;TZID=America/Los_Angeles:20160812T183000
DTEND;TZID=America/Los_Angeles:20160812T203000
DTSTAMP:20260419T192004
CREATED:20160715T005109Z
LAST-MODIFIED:20160715T005110Z
UID:5169-1471026600-1471033800@www.oakhurstevfree.org
SUMMARY:Mission Banquet
DESCRIPTION:On Friday night\, August 12th we will be having our annual Missions Banquet.  The event will begin at 6:30 pm and end at approximately 8:30 pm.  Our speakers are working in the Middle East in the area of education and strengthening churches. \nWe will also share about a possible short-term missions trip to Chile\, as well as take an offering for our Missions Fund\, which is used for that purpose\, among other things. \nThe venue will be casual and we will be sharing a potluck dinner together\, with the theme being international dishes.  So\, bring your favorite Mexican or Italian or Russian or Jewish or ? dish!  A to M bring a main dish\, N to S bring a salad (tabouli?)\, and T to Z bring a dessert (tiramisu?).  Drinks and utensils will be provided. \nSo\, if you want to know some of what God is doing in the Middle East\, and hear about possibly getting involved in missions yourself\, see you at the banquet!  That’s Friday night\, August 12th from 6:30 to 8:30.
URL:https://www.oakhurstevfree.org/calendar/mission-banquet/
ATTACH;FMTTYPE=image/jpeg:https://www.oakhurstevfree.org/wp-content/uploads/2014/10/Missionaries-Header.jpg
END:VEVENT
BEGIN:VEVENT
DTSTART;TZID=America/Los_Angeles:20160731T084500
DTEND;TZID=America/Los_Angeles:20160731T094500
DTSTAMP:20260419T192004
CREATED:20160715T005512Z
LAST-MODIFIED:20160720T145810Z
UID:5170-1469954700-1469958300@www.oakhurstevfree.org
SUMMARY:All Church Prayer Meeting
DESCRIPTION:On July 31st we will again be having our All Church Prayer Meeting\, downstairs in the Awana Room.  This event occurs whenever there is a 5th Sunday in a month.  It takes place from 8:45 to 9:45 am (during the Sunday School hour).  The whole church is invited – in fact\, exhorted – to be there.  Come and bring the needs you have … personal\, for other brothers and sisters\, for our society and our nation.  Or\, just come praise\, worship and petition our gracious God with us!  See you there – Sunday\, July 31st from 8:45 to 9:45 am.
URL:https://www.oakhurstevfree.org/calendar/all-church-prayer-meeting/
LOCATION:Awana Room
END:VEVENT
BEGIN:VEVENT
DTSTART;TZID=America/Los_Angeles:20160518T180000
DTEND;TZID=America/Los_Angeles:20160518T200000
DTSTAMP:20260419T192004
CREATED:20150902T200418Z
LAST-MODIFIED:20150902T200418Z
UID:3868-1463594400-1463601600@www.oakhurstevfree.org
SUMMARY:Awana
DESCRIPTION:Awana tonight is Last Club Awards Nite – Ice Cream!
URL:https://www.oakhurstevfree.org/calendar/awana-54/
LOCATION:Awana Room
CATEGORIES:AWANA
ATTACH;FMTTYPE=image/png:https://www.oakhurstevfree.org/wp-content/uploads/2014/12/Awana-Clubs-Logo.png
END:VEVENT
BEGIN:VEVENT
DTSTART;TZID=America/Los_Angeles:20160517T090000
DTEND;TZID=America/Los_Angeles:20160517T110000
DTSTAMP:20260419T192004
CREATED:20160323T213120Z
LAST-MODIFIED:20160515T155413Z
UID:4786-1463475600-1463482800@www.oakhurstevfree.org
SUMMARY:Mom's Time Out
DESCRIPTION:This is a place of encouragement\, fellowship and support for fellow believers\, and a place where non-believers can come to know Christ\, and grasp all that He has for them\, if they choose to believe.
URL:https://www.oakhurstevfree.org/calendar/moms-time-out-5/
CATEGORIES:MTO
END:VEVENT
BEGIN:VEVENT
DTSTART;TZID=America/Los_Angeles:20160511T180000
DTEND;TZID=America/Los_Angeles:20160511T200000
DTSTAMP:20260419T192004
CREATED:20150902T200240Z
LAST-MODIFIED:20150902T200930Z
UID:3867-1462989600-1462996800@www.oakhurstevfree.org
SUMMARY:Awana
DESCRIPTION:Awana theme tonight is Bring a Towel Nite (water games). This is 4th Quarter Attendance & SS Awards
URL:https://www.oakhurstevfree.org/calendar/wana/
LOCATION:Awana Room
CATEGORIES:AWANA
ATTACH;FMTTYPE=image/png:https://www.oakhurstevfree.org/wp-content/uploads/2014/12/Awana-Clubs-Logo.png
END:VEVENT
BEGIN:VEVENT
DTSTART;TZID=America/Los_Angeles:20160505T183000
DTEND;TZID=America/Los_Angeles:20160505T200000
DTSTAMP:20260419T192004
CREATED:20160427T184249Z
LAST-MODIFIED:20160427T184249Z
UID:4940-1462473000-1462478400@www.oakhurstevfree.org
SUMMARY:National Day of Prayer 2016
DESCRIPTION:The theme for the National Day of Prayer 2016 is\n Wake Up America\n… emphasizing the need for individuals\, corporately and individually\, to return to the God of our Fathers in reverence for His Holy Name. \nThe Scripture this year is Isaiah 58:1a:  “Shout it aloud\, do not hold back. Raise your voice like a trumpet.” \nThursday\, May 5th\, we will be hosting a National Day of Prayer gathering from 6:30 to 8:00 pm.\nThe National Day of Prayer is an annual observance held on the first Thursday of May\, inviting people of all faiths to pray for our nation. It was created in 1952 by a joint resolution of the United States Congress and signed into law by President Harry S. Truman. Since its inception\, this day has continually united Americans from all socio-economic\, political\, and ethnic backgrounds in prayer while also encouraging personal repentance and righteousness in the culture. The National Day of Prayer belongs to all Americans and is a day that transcends differences\, bringing together citizens to celebrate our most beloved freedom; the freedom to humbly come before God and seek His guidance in prayer. \n  \nOakhurst Evangelical Free Church\nwww.oakhurstevfree.org      559.683.2254
URL:https://www.oakhurstevfree.org/calendar/national-day-of-prayer-2016/
CATEGORIES:Church Event
END:VEVENT
BEGIN:VEVENT
DTSTART;TZID=America/Los_Angeles:20160504T180000
DTEND;TZID=America/Los_Angeles:20160504T200000
DTSTAMP:20260419T192004
CREATED:20150902T200105Z
LAST-MODIFIED:20150902T200105Z
UID:3866-1462384800-1462392000@www.oakhurstevfree.org
SUMMARY:Awana
DESCRIPTION:Awana theme tonight is Honor Your Mom Nite
URL:https://www.oakhurstevfree.org/calendar/awana-53/
LOCATION:Awana Room
CATEGORIES:AWANA
ATTACH;FMTTYPE=image/png:https://www.oakhurstevfree.org/wp-content/uploads/2014/12/Awana-Clubs-Logo.png
END:VEVENT
BEGIN:VEVENT
DTSTART;TZID=America/Los_Angeles:20160503T090000
DTEND;TZID=America/Los_Angeles:20160503T110000
DTSTAMP:20260419T192004
CREATED:20160323T213025Z
LAST-MODIFIED:20160330T210931Z
UID:4785-1462266000-1462273200@www.oakhurstevfree.org
SUMMARY:Mom's Time Out
DESCRIPTION:This is a place of encouragement\, fellowship and support for fellow believers\, and a place where non-believers can come to know Christ\, and grasp all that He has for them\, if they choose to believe. \n  \nSpeaker: Roy Killion will speak on preparing for the fire season and making a “fire box”.
URL:https://www.oakhurstevfree.org/calendar/moms-time-out-4/
CATEGORIES:MTO
END:VEVENT
BEGIN:VEVENT
DTSTART;TZID=America/Los_Angeles:20160427T180000
DTEND;TZID=America/Los_Angeles:20160427T200000
DTSTAMP:20260419T192004
CREATED:20150902T195951Z
LAST-MODIFIED:20150902T195951Z
UID:3865-1461780000-1461787200@www.oakhurstevfree.org
SUMMARY:Awana
DESCRIPTION:Awana theme tonight is Spot Your Leader
URL:https://www.oakhurstevfree.org/calendar/awana-52/
LOCATION:Awana Room
CATEGORIES:AWANA
ATTACH;FMTTYPE=image/png:https://www.oakhurstevfree.org/wp-content/uploads/2014/12/Awana-Clubs-Logo.png
END:VEVENT
BEGIN:VEVENT
DTSTART;TZID=America/Los_Angeles:20160420T180000
DTEND;TZID=America/Los_Angeles:20160420T200000
DTSTAMP:20260419T192004
CREATED:20150902T195836Z
LAST-MODIFIED:20150902T195836Z
UID:3864-1461175200-1461182400@www.oakhurstevfree.org
SUMMARY:Awana
DESCRIPTION:Awana theme tonight is Pirate Nite
URL:https://www.oakhurstevfree.org/calendar/awana-51/
LOCATION:Awana Room
CATEGORIES:AWANA
ATTACH;FMTTYPE=image/png:https://www.oakhurstevfree.org/wp-content/uploads/2014/12/Awana-Clubs-Logo.png
END:VEVENT
BEGIN:VEVENT
DTSTART;TZID=America/Los_Angeles:20160419T090000
DTEND;TZID=America/Los_Angeles:20160419T110000
DTSTAMP:20260419T192004
CREATED:20160323T212816Z
LAST-MODIFIED:20160330T210717Z
UID:4784-1461056400-1461063600@www.oakhurstevfree.org
SUMMARY:Mom's Time Out
DESCRIPTION:This is a place of encouragement\, fellowship and support for fellow believers\, and a place where non-believers can come to know Christ\, and grasp all that He has for them\, if they choose to believe. \n  \nSpeaker: Tracy Schulte will be sharing “My Story …becoming a Christian … understanding my sin … learning to hear God’s voice … Learning to walk with God as he teaches me how to teach my kids about Him (Deuteronomy 6:6-7).  My desire is that it will be encouraging\, challenging and full of grace.” \nCraft: DIY No-Sew T-Shirt Tote Bags
URL:https://www.oakhurstevfree.org/calendar/moms-time-out-3/
CATEGORIES:MTO
END:VEVENT
BEGIN:VEVENT
DTSTART;TZID=America/Los_Angeles:20160413T180000
DTEND;TZID=America/Los_Angeles:20160413T200000
DTSTAMP:20260419T192004
CREATED:20150902T195724Z
LAST-MODIFIED:20150902T195724Z
UID:3863-1460570400-1460577600@www.oakhurstevfree.org
SUMMARY:Awana
DESCRIPTION:Awana theme tonight is Honor Your Dad Nite
URL:https://www.oakhurstevfree.org/calendar/awana-50/
LOCATION:Awana Room
CATEGORIES:AWANA
ATTACH;FMTTYPE=image/png:https://www.oakhurstevfree.org/wp-content/uploads/2014/12/Awana-Clubs-Logo.png
END:VEVENT
BEGIN:VEVENT
DTSTART;TZID=America/Los_Angeles:20160408T170000
DTEND;TZID=America/Los_Angeles:20160408T210000
DTSTAMP:20260419T192004
CREATED:20150902T195615Z
LAST-MODIFIED:20151112T234408Z
UID:3862-1460134800-1460149200@www.oakhurstevfree.org
SUMMARY:Awana
DESCRIPTION:Awana theme tonight is T&T Bible Quizzing
URL:https://www.oakhurstevfree.org/calendar/awana-49/
LOCATION:Sanctuary
CATEGORIES:AWANA
ATTACH;FMTTYPE=image/png:https://www.oakhurstevfree.org/wp-content/uploads/2014/12/Awana-Clubs-Logo.png
END:VEVENT
BEGIN:VEVENT
DTSTART;TZID=America/Los_Angeles:20160406T180000
DTEND;TZID=America/Los_Angeles:20160406T200000
DTSTAMP:20260419T192004
CREATED:20150902T195441Z
LAST-MODIFIED:20150902T201133Z
UID:3861-1459965600-1459972800@www.oakhurstevfree.org
SUMMARY:Awana
DESCRIPTION:Awana theme tonight is Am I Blue? Nite (wear blue)
URL:https://www.oakhurstevfree.org/calendar/awana-48/
LOCATION:Awana Room
CATEGORIES:AWANA
ATTACH;FMTTYPE=image/png:https://www.oakhurstevfree.org/wp-content/uploads/2014/12/Awana-Clubs-Logo.png
END:VEVENT
BEGIN:VEVENT
DTSTART;TZID=America/Los_Angeles:20160405T090000
DTEND;TZID=America/Los_Angeles:20160405T110000
DTSTAMP:20260419T192004
CREATED:20160323T212658Z
LAST-MODIFIED:20160330T210603Z
UID:4782-1459846800-1459854000@www.oakhurstevfree.org
SUMMARY:Mom's Time Out
DESCRIPTION:This is a place of encouragement\, fellowship and support for fellow believers\, and a place where non-believers can come to know Christ\, and grasp all that He has for them\, if they choose to believe. \n  \nSpeaker: Mandi Milburn (Wilburn?) of Just Between Friends Sale will talk about how to decide what to get rid of\, and organizing your child’s belongings. \nCraft: To help you get started\, we’ll be decorating Dollar Store storage bins.
URL:https://www.oakhurstevfree.org/calendar/moms-time-out-2/
CATEGORIES:MTO
END:VEVENT
BEGIN:VEVENT
DTSTART;TZID=America/Los_Angeles:20160330T180000
DTEND;TZID=America/Los_Angeles:20160330T200000
DTSTAMP:20260419T192004
CREATED:20150902T195227Z
LAST-MODIFIED:20150902T195227Z
UID:3859-1459360800-1459368000@www.oakhurstevfree.org
SUMMARY:Awana
DESCRIPTION:Awana theme tonoght is Hero Nite
URL:https://www.oakhurstevfree.org/calendar/awana-46/
LOCATION:Awana Room
CATEGORIES:AWANA
ATTACH;FMTTYPE=image/png:https://www.oakhurstevfree.org/wp-content/uploads/2014/12/Awana-Clubs-Logo.png
END:VEVENT
BEGIN:VEVENT
DTSTART;TZID=America/Los_Angeles:20160323T180000
DTEND;TZID=America/Los_Angeles:20160323T200000
DTSTAMP:20260419T192004
CREATED:20150902T195333Z
LAST-MODIFIED:20150902T195333Z
UID:3860-1458756000-1458763200@www.oakhurstevfree.org
SUMMARY:Awana
DESCRIPTION:NO CLUB TONIGHT – Easter Break
URL:https://www.oakhurstevfree.org/calendar/awana-47/
LOCATION:Awana Room
CATEGORIES:AWANA
ATTACH;FMTTYPE=image/png:https://www.oakhurstevfree.org/wp-content/uploads/2014/12/Awana-Clubs-Logo.png
END:VEVENT
BEGIN:VEVENT
DTSTART;TZID=America/Los_Angeles:20160316T180000
DTEND;TZID=America/Los_Angeles:20160316T200000
DTSTAMP:20260419T192004
CREATED:20150902T195116Z
LAST-MODIFIED:20150902T195116Z
UID:3858-1458151200-1458158400@www.oakhurstevfree.org
SUMMARY:Awana
DESCRIPTION:Awana theme tonight is \nMellow Yellow Nite (wear yellow) This is 3rd Quarter Attendance Awards
URL:https://www.oakhurstevfree.org/calendar/awana-45/
LOCATION:Awana Room
CATEGORIES:AWANA
ATTACH;FMTTYPE=image/png:https://www.oakhurstevfree.org/wp-content/uploads/2014/12/Awana-Clubs-Logo.png
END:VEVENT
BEGIN:VEVENT
DTSTART;TZID=America/Los_Angeles:20160309T180000
DTEND;TZID=America/Los_Angeles:20160309T200000
DTSTAMP:20260419T192004
CREATED:20150902T194945Z
LAST-MODIFIED:20150902T194945Z
UID:3857-1457546400-1457553600@www.oakhurstevfree.org
SUMMARY:Awana
DESCRIPTION:Awana theme tonight is Jammin’ in Your Jammies with Jesus (movie night)
URL:https://www.oakhurstevfree.org/calendar/awana-44/
LOCATION:Awana Room
CATEGORIES:AWANA
ATTACH;FMTTYPE=image/png:https://www.oakhurstevfree.org/wp-content/uploads/2014/12/Awana-Clubs-Logo.png
END:VEVENT
BEGIN:VEVENT
DTSTART;TZID=America/Los_Angeles:20160302T180000
DTEND;TZID=America/Los_Angeles:20160302T200000
DTSTAMP:20260419T192004
CREATED:20150902T194803Z
LAST-MODIFIED:20150902T194803Z
UID:3856-1456941600-1456948800@www.oakhurstevfree.org
SUMMARY:Awana
DESCRIPTION:Awana theme tonight is Dr. Seuss Nite (dress as character)
URL:https://www.oakhurstevfree.org/calendar/awana-43/
LOCATION:Awana Room
CATEGORIES:AWANA
ATTACH;FMTTYPE=image/png:https://www.oakhurstevfree.org/wp-content/uploads/2014/12/Awana-Clubs-Logo.png
END:VEVENT
BEGIN:VEVENT
DTSTART;TZID=America/Los_Angeles:20160224T180000
DTEND;TZID=America/Los_Angeles:20160224T200000
DTSTAMP:20260419T192004
CREATED:20150902T194544Z
LAST-MODIFIED:20150902T194544Z
UID:3854-1456336800-1456344000@www.oakhurstevfree.org
SUMMARY:Awana
DESCRIPTION:Awana theme tonight is Twinkie Nite (dress up like twins)
URL:https://www.oakhurstevfree.org/calendar/awana-41/
LOCATION:Awana Room
CATEGORIES:AWANA
ATTACH;FMTTYPE=image/png:https://www.oakhurstevfree.org/wp-content/uploads/2014/12/Awana-Clubs-Logo.png
END:VEVENT
BEGIN:VEVENT
DTSTART;TZID=America/Los_Angeles:20160217T180000
DTEND;TZID=America/Los_Angeles:20160217T200000
DTSTAMP:20260419T192004
CREATED:20150902T194650Z
LAST-MODIFIED:20150902T194650Z
UID:3855-1455732000-1455739200@www.oakhurstevfree.org
SUMMARY:Awana
DESCRIPTION:NO CLUB TONIGHT – School Break
URL:https://www.oakhurstevfree.org/calendar/awana-42/
LOCATION:Awana Room
CATEGORIES:AWANA
ATTACH;FMTTYPE=image/png:https://www.oakhurstevfree.org/wp-content/uploads/2014/12/Awana-Clubs-Logo.png
END:VEVENT
BEGIN:VEVENT
DTSTART;TZID=America/Los_Angeles:20160214T130000
DTEND;TZID=America/Los_Angeles:20160214T150000
DTSTAMP:20260419T192004
CREATED:20150121T011147Z
LAST-MODIFIED:20150121T235907Z
UID:1357-1455454800-1455462000@www.oakhurstevfree.org
SUMMARY:Discipled To Share (DTS) Training
DESCRIPTION:Have you ever wanted to share your faith and the message of salvation but weren’t sure that you could do it? Well come to this DTS training to build the confidence and knowledge that will equip you to boldly share the truth of God’s word about salvation. \nDon’t let this opportunity slip away from you. You are equipped through the power of the Holy Spirit to witness the truth of God’s word and the hope of Salvation to all you come in contact with.
URL:https://www.oakhurstevfree.org/calendar/discipled-to-share-dts-training/
ATTACH;FMTTYPE=image/jpeg:https://www.oakhurstevfree.org/wp-content/uploads/2014/11/Discipled-to-Share-Header.jpg
END:VEVENT
BEGIN:VEVENT
DTSTART;TZID=America/Los_Angeles:20160210T180000
DTEND;TZID=America/Los_Angeles:20160210T200000
DTSTAMP:20260419T192004
CREATED:20150902T194421Z
LAST-MODIFIED:20150902T194421Z
UID:3853-1455127200-1455134400@www.oakhurstevfree.org
SUMMARY:Awana
DESCRIPTION:Awana theme tonight is On the Red Line (wear red)
URL:https://www.oakhurstevfree.org/calendar/awana-40/
LOCATION:Awana Room
CATEGORIES:AWANA
ATTACH;FMTTYPE=image/png:https://www.oakhurstevfree.org/wp-content/uploads/2014/12/Awana-Clubs-Logo.png
END:VEVENT
BEGIN:VEVENT
DTSTART;TZID=America/Los_Angeles:20160203T180000
DTEND;TZID=America/Los_Angeles:20160203T200000
DTSTAMP:20260419T192004
CREATED:20150902T194306Z
LAST-MODIFIED:20150902T194306Z
UID:3852-1454522400-1454529600@www.oakhurstevfree.org
SUMMARY:Awana
DESCRIPTION:Awana theme tonight is Backwards Nite
URL:https://www.oakhurstevfree.org/calendar/awana-39/
LOCATION:Awana Room
CATEGORIES:AWANA
ATTACH;FMTTYPE=image/png:https://www.oakhurstevfree.org/wp-content/uploads/2014/12/Awana-Clubs-Logo.png
END:VEVENT
BEGIN:VEVENT
DTSTART;TZID=America/Los_Angeles:20160127T180000
DTEND;TZID=America/Los_Angeles:20160127T200000
DTSTAMP:20260419T192004
CREATED:20150902T194140Z
LAST-MODIFIED:20150902T194140Z
UID:3851-1453917600-1453924800@www.oakhurstevfree.org
SUMMARY:Awana
DESCRIPTION:Awana theme tonight is Crazy Hat Nite
URL:https://www.oakhurstevfree.org/calendar/awana-38/
LOCATION:Awana Room
CATEGORIES:AWANA
ATTACH;FMTTYPE=image/png:https://www.oakhurstevfree.org/wp-content/uploads/2014/12/Awana-Clubs-Logo.png
END:VEVENT
BEGIN:VEVENT
DTSTART;TZID=America/Los_Angeles:20160123T180000
DTEND;TZID=America/Los_Angeles:20160123T210000
DTSTAMP:20260419T192004
CREATED:20151028T234424Z
LAST-MODIFIED:20151028T234424Z
UID:4203-1453572000-1453582800@www.oakhurstevfree.org
SUMMARY:Family Movie Night
DESCRIPTION:The movie will be “Mr. Peabody & Sherman”
URL:https://www.oakhurstevfree.org/calendar/family-movie-night/
LOCATION:Sanctuary
CATEGORIES:Church Event
END:VEVENT
BEGIN:VEVENT
DTSTART;TZID=America/Los_Angeles:20160120T180000
DTEND;TZID=America/Los_Angeles:20160120T200000
DTSTAMP:20260419T192004
CREATED:20150902T194024Z
LAST-MODIFIED:20150902T194024Z
UID:3850-1453312800-1453320000@www.oakhurstevfree.org
SUMMARY:Awana
DESCRIPTION:Awana theme tonight is This Little Light of Mine (bring flashlights)
URL:https://www.oakhurstevfree.org/calendar/awana-37/
LOCATION:Awana Room
CATEGORIES:AWANA
ATTACH;FMTTYPE=image/png:https://www.oakhurstevfree.org/wp-content/uploads/2014/12/Awana-Clubs-Logo.png
END:VEVENT
BEGIN:VEVENT
DTSTART;TZID=America/Los_Angeles:20160116T180000
DTEND;TZID=America/Los_Angeles:20160116T200000
DTSTAMP:20260419T192004
CREATED:20151208T181922Z
LAST-MODIFIED:20151208T181922Z
UID:4346-1452967200-1452974400@www.oakhurstevfree.org
SUMMARY:Family Movie Night - Mr. Peabody & Sherman
DESCRIPTION:
URL:https://www.oakhurstevfree.org/calendar/family-movie-night-mr-peabody-sherman/
CATEGORIES:Church Event
END:VEVENT
BEGIN:VEVENT
DTSTART;TZID=America/Los_Angeles:20160115T070000
DTEND;TZID=America/Los_Angeles:20160115T083000
DTSTAMP:20260419T192004
CREATED:20150204T030653Z
LAST-MODIFIED:20160111T011502Z
UID:2119-1452841200-1452846600@www.oakhurstevfree.org
SUMMARY:Men's Bible Study
DESCRIPTION:We are currently studying the Book of Revelation.
URL:https://www.oakhurstevfree.org/calendar/mens-bible-study-2016-01-15/
LOCATION:Conference Room
CATEGORIES:Men's Bible Study
ATTACH;FMTTYPE=image/jpeg:https://www.oakhurstevfree.org/wp-content/uploads/2014/10/Ministry-Men1.jpg
END:VEVENT
END:VCALENDAR