BEGIN:VCALENDAR
VERSION:2.0
PRODID:-//Oakhurst EVFree - ECPv6.15.20//NONSGML v1.0//EN
CALSCALE:GREGORIAN
METHOD:PUBLISH
X-WR-CALNAME:Oakhurst EVFree
X-ORIGINAL-URL:https://www.oakhurstevfree.org
X-WR-CALDESC:Events for Oakhurst EVFree
REFRESH-INTERVAL;VALUE=DURATION:PT1H
X-Robots-Tag:noindex
X-PUBLISHED-TTL:PT1H
BEGIN:VTIMEZONE
TZID:America/Los_Angeles
BEGIN:DAYLIGHT
TZOFFSETFROM:-0800
TZOFFSETTO:-0700
TZNAME:PDT
DTSTART:20150308T100000
END:DAYLIGHT
BEGIN:STANDARD
TZOFFSETFROM:-0700
TZOFFSETTO:-0800
TZNAME:PST
DTSTART:20151101T090000
END:STANDARD
BEGIN:DAYLIGHT
TZOFFSETFROM:-0800
TZOFFSETTO:-0700
TZNAME:PDT
DTSTART:20160313T100000
END:DAYLIGHT
BEGIN:STANDARD
TZOFFSETFROM:-0700
TZOFFSETTO:-0800
TZNAME:PST
DTSTART:20161106T090000
END:STANDARD
BEGIN:DAYLIGHT
TZOFFSETFROM:-0800
TZOFFSETTO:-0700
TZNAME:PDT
DTSTART:20170312T100000
END:DAYLIGHT
BEGIN:STANDARD
TZOFFSETFROM:-0700
TZOFFSETTO:-0800
TZNAME:PST
DTSTART:20171105T090000
END:STANDARD
BEGIN:DAYLIGHT
TZOFFSETFROM:-0800
TZOFFSETTO:-0700
TZNAME:PDT
DTSTART:20180311T100000
END:DAYLIGHT
BEGIN:STANDARD
TZOFFSETFROM:-0700
TZOFFSETTO:-0800
TZNAME:PST
DTSTART:20181104T090000
END:STANDARD
BEGIN:DAYLIGHT
TZOFFSETFROM:-0800
TZOFFSETTO:-0700
TZNAME:PDT
DTSTART:20190310T100000
END:DAYLIGHT
BEGIN:STANDARD
TZOFFSETFROM:-0700
TZOFFSETTO:-0800
TZNAME:PST
DTSTART:20191103T090000
END:STANDARD
END:VTIMEZONE
BEGIN:VEVENT
DTSTART;TZID=America/Los_Angeles:20180312T183000
DTEND;TZID=America/Los_Angeles:20180312T200000
DTSTAMP:20260419T145443
CREATED:20180312T214513Z
LAST-MODIFIED:20180402T205235Z
UID:6772-1520879400-1520884800@www.oakhurstevfree.org
SUMMARY:Bible Study "Jonah: Navigating a Life Interrupted"
DESCRIPTION:You can’t escape life’s interruptions…they shock us; they shake us; the compel us to change.  You can’t escape\, but you can change your perspective on them.  Dive into the study of Jonah and discover that what you see as an interruption may truly be God’s divine invitation to a life so much bigger than you can imagine.\nThis study is meeting from March 5th through April 16th.  Choose either Monday 6:30pm-8:00pm or Fridays 9:00am-11:00am.\n\nCome join us in this study by Priscilla Shirer.\n\n\nThe cost of the study book is $28.00
URL:https://www.oakhurstevfree.org/calendar/bible-study-jonah-navigating-a-life-interrupted-2/
LOCATION:Conference Room
CATEGORIES:Women Ministry
END:VEVENT
BEGIN:VEVENT
DTSTART;TZID=America/Los_Angeles:20180306T090000
DTEND;TZID=America/Los_Angeles:20180306T113000
DTSTAMP:20260419T145443
CREATED:20171220T190407Z
LAST-MODIFIED:20171220T190407Z
UID:6278-1520326800-1520335800@www.oakhurstevfree.org
SUMMARY:Mom's Time Out
DESCRIPTION:Activity to be announced
URL:https://www.oakhurstevfree.org/calendar/moms-time-out-15/
CATEGORIES:MTO
END:VEVENT
BEGIN:VEVENT
DTSTART;TZID=America/Los_Angeles:20180206T090000
DTEND;TZID=America/Los_Angeles:20180206T113000
DTSTAMP:20260419T145443
CREATED:20171220T190215Z
LAST-MODIFIED:20171220T190215Z
UID:6277-1517907600-1517916600@www.oakhurstevfree.org
SUMMARY:Mom's Time Out
DESCRIPTION:Activity to be announced.
URL:https://www.oakhurstevfree.org/calendar/moms-time-out-14/
CATEGORIES:MTO
END:VEVENT
BEGIN:VEVENT
DTSTART;TZID=America/Los_Angeles:20180116T090000
DTEND;TZID=America/Los_Angeles:20180116T233000
DTSTAMP:20260419T145443
CREATED:20171218T191758Z
LAST-MODIFIED:20171220T185021Z
UID:6274-1516093200-1516145400@www.oakhurstevfree.org
SUMMARY:Mom's Time Out
DESCRIPTION:Come join us for our first MTO meeting of 2018 on January 16th:\nMary Alice will be speaking. Her topic is “New year\, fresh start”.\nWe will be having a potluck breakfast as well.
URL:https://www.oakhurstevfree.org/calendar/moms-time-out-13/
CATEGORIES:MTO
END:VEVENT
BEGIN:VEVENT
DTSTART;TZID=America/Los_Angeles:20171217T180000
DTEND;TZID=America/Los_Angeles:20171217T190000
DTSTAMP:20260419T145443
CREATED:20171111T200258Z
LAST-MODIFIED:20171111T201128Z
UID:6057-1513533600-1513537200@www.oakhurstevfree.org
SUMMARY:Children's Christmas Program - FINAL PERFORMANCE
DESCRIPTION:Children’s Christmas Program – FINAL PERFORMANCE
URL:https://www.oakhurstevfree.org/calendar/childrens-christmas-program-final-performance/
LOCATION:Sanctuary
CATEGORIES:Children's Christmas Program
END:VEVENT
BEGIN:VEVENT
DTSTART;TZID=America/Los_Angeles:20171216T150000
DTEND;TZID=America/Los_Angeles:20171216T180000
DTSTAMP:20260419T145443
CREATED:20171111T200036Z
LAST-MODIFIED:20171111T200036Z
UID:6056-1513436400-1513447200@www.oakhurstevfree.org
SUMMARY:Children's Christmas Program - Dress Rehearsal
DESCRIPTION:Children’s Christmas Program – Dress Rehearsal
URL:https://www.oakhurstevfree.org/calendar/childrens-christmas-program-dress-rehearsal/
LOCATION:Sanctuary
END:VEVENT
BEGIN:VEVENT
DTSTART;TZID=America/Los_Angeles:20171210T120000
DTEND;TZID=America/Los_Angeles:20171210T130000
DTSTAMP:20260419T145443
CREATED:20171111T195653Z
LAST-MODIFIED:20171111T200518Z
UID:6054-1512907200-1512910800@www.oakhurstevfree.org
SUMMARY:Children's Christmas Program - Practice #3
DESCRIPTION:Children’s Christmas Program – Practice #3
URL:https://www.oakhurstevfree.org/calendar/childrens-christmas-program-practice-3/
LOCATION:Sanctuary
CATEGORIES:Children's Christmas Program
END:VEVENT
BEGIN:VEVENT
DTSTART;TZID=America/Los_Angeles:20171203T120000
DTEND;TZID=America/Los_Angeles:20171203T130000
DTSTAMP:20260419T145443
CREATED:20171111T195540Z
LAST-MODIFIED:20171111T200359Z
UID:6053-1512302400-1512306000@www.oakhurstevfree.org
SUMMARY:Children's Christmas Program - Practice #2
DESCRIPTION:Children’s Christmas Program – Practice #2
URL:https://www.oakhurstevfree.org/calendar/childrens-christmas-program-practice-1-2/
LOCATION:Sanctuary
CATEGORIES:Children's Christmas Program
END:VEVENT
BEGIN:VEVENT
DTSTART;TZID=America/Los_Angeles:20171119T120000
DTEND;TZID=America/Los_Angeles:20171119T130000
DTSTAMP:20260419T145443
CREATED:20171111T195425Z
LAST-MODIFIED:20171111T195425Z
UID:6052-1511092800-1511096400@www.oakhurstevfree.org
SUMMARY:Children's Christmas Program - Practice #1
DESCRIPTION:Practice #1 after church (noon-1pm) – in sanctuary
URL:https://www.oakhurstevfree.org/calendar/childrens-christmas-program-practice-1/
LOCATION:Sanctuary
CATEGORIES:Children's Christmas Program
END:VEVENT
BEGIN:VEVENT
DTSTART;TZID=America/Los_Angeles:20171112T120000
DTEND;TZID=America/Los_Angeles:20171112T130000
DTSTAMP:20260419T145443
CREATED:20171111T195210Z
LAST-MODIFIED:20171111T195210Z
UID:6050-1510488000-1510491600@www.oakhurstevfree.org
SUMMARY:Children's Christmas Program - Auditions
DESCRIPTION:auditions will be held for the Children after Church in the Sanctuary
URL:https://www.oakhurstevfree.org/calendar/childrens-christmas-program-auditions/
LOCATION:Sanctuary
CATEGORIES:Children's Christmas Program
END:VEVENT
BEGIN:VEVENT
DTSTART;TZID=America/Los_Angeles:20170923T080000
DTEND;TZID=America/Los_Angeles:20170923T150000
DTSTAMP:20260419T145443
CREATED:20170728T192138Z
LAST-MODIFIED:20170728T192138Z
UID:5900-1506153600-1506178800@www.oakhurstevfree.org
SUMMARY:Missions “MONSTER” Parking Lot Sale
DESCRIPTION:Saturday\, September 23rd from 8 am to 3 pm\, and collecting recyclables to help raise funds.  So please come to the banquet ready to give\, come to the parking lot sale looking for a bargain\, and bring your recyclables on Sundays before church\, and put them in the alcove to the right of the rear entry doors.
URL:https://www.oakhurstevfree.org/calendar/missions-monster-parking-lot-sale/
LOCATION:Oakhurst EV Free Church\, 50443 School Rd.\, Oakhurst\, CA\, 93644\, United States
CATEGORIES:Missionaries
ATTACH;FMTTYPE=image/jpeg:https://www.oakhurstevfree.org/wp-content/uploads/2014/11/Missions-Tile.jpg
END:VEVENT
BEGIN:VEVENT
DTSTART;TZID=America/Los_Angeles:20170915T180000
DTEND;TZID=America/Los_Angeles:20170915T200000
DTSTAMP:20260419T145443
CREATED:20170728T191734Z
LAST-MODIFIED:20170728T191902Z
UID:5898-1505498400-1505505600@www.oakhurstevfree.org
SUMMARY:Missions Banquet
DESCRIPTION:On Friday night\, September 15th from 6 to 8 pm\, we will have a banquet celebrating God’s work in the area of missions.  This will be featuring Mark and Lara Robinson with Wycliffe Bible translators\, and our own Leilani Cummings sharing her experience with Joni and Friends Ministries.  We will also feature all the missionaries we help support\, with literature tables and information.
URL:https://www.oakhurstevfree.org/calendar/missions-banquet/
LOCATION:OEFC\, 50443 School Rd.\, Oakhurst\, CA\, 93644\, United States
CATEGORIES:Missionaries
ATTACH;FMTTYPE=image/jpeg:https://www.oakhurstevfree.org/wp-content/uploads/2014/11/Missions-Tile.jpg
END:VEVENT
BEGIN:VEVENT
DTSTART;TZID=America/Los_Angeles:20170806T160000
DTEND;TZID=America/Los_Angeles:20170806T203000
DTSTAMP:20260419T145443
CREATED:20170422T163612Z
LAST-MODIFIED:20170728T164435Z
UID:5689-1502035200-1502051400@www.oakhurstevfree.org
SUMMARY:Men's Rally
DESCRIPTION:All men\, at heart\, are hunters\, gatherers\, warriors and\, in our modern age\, competitors!  With that in mind\, we are having our annual MEN’S RALLY on Sunday afternoon\, August 6th from 4 to 8:30 pm at Pastor Bob’s house at 39550 Giant Oak Road (go to the end of School Road\, turn right and go until you go around an oak tree\, and there it is on the right).  All men and their sons are invited to come to the fun and competition.\nThe theme\, apart from the competition\, will be “Presenting Every Man Complete in Christ” … in your home\, your church\, your work\, your culture and in your world – all 5 to 7 minute\, hard-hitting encouragements!  In between the messages and the fun\, food and fellowship\, we will have competitions (for all you gamers) in the area of horse shoes\, archery\, hatchet throwing\, free throwing\, bench pressing\, football tossing\, baseball tossing and golf chipping.  So\, practice up and let’s see what you’ve got! \nHamburgers and hot dogs\, buns\, condiments\, plates\, forks and drinks will be supplied for a small fee ($5 adults\, $3 under 12).  Bring your own chair\, appetite\, but most of all\, a good attitude and be ready for some manly challenge and fun!  Prizes will be awarded to winners\, as well as 2nd and 3rd places\, in age-graded competitions.  So come prepared for some worship\, competition\, fellowship and exhortation from God’s Word.  Oh yeah\, and some serious fun!  Bring a friend!  Bring a man!  Be a man!
URL:https://www.oakhurstevfree.org/calendar/mens-rally-2/
LOCATION:Pastor Bob’s House\, 39550 Giant Oak Rd.\, Oakhurst\, CA\, 93644\, United States
CATEGORIES:Men's Ministry
ATTACH;FMTTYPE=image/jpeg:https://www.oakhurstevfree.org/wp-content/uploads/2014/10/Contact-Us-Header.jpg
END:VEVENT
BEGIN:VEVENT
DTSTART;VALUE=DATE:20170602
DTEND;VALUE=DATE:20170605
DTSTAMP:20260419T145443
CREATED:20170422T155330Z
LAST-MODIFIED:20170422T155721Z
UID:5676-1496361600-1496620799@www.oakhurstevfree.org
SUMMARY:Hosting International Students
DESCRIPTION:Make plans to host International Students\, Inc. on June 2nd – 4th. This is a great missions opportunity with students from all over the world. For more details\, see the flyer in the bulletin\, or call John Steers at 831-747-7357 or our church office at 559-683-2254 for more details. See if God would lay it on your heart to host 1 or 2 (or 3 or 4) students for 2 nights!
URL:https://www.oakhurstevfree.org/calendar/missionaries/
CATEGORIES:Missionaries
END:VEVENT
BEGIN:VEVENT
DTSTART;VALUE=DATE:20170520
DTEND;VALUE=DATE:20170521
DTSTAMP:20260419T145443
CREATED:20150126T002022Z
LAST-MODIFIED:20170320T150726Z
UID:1509-1495238400-1495324799@www.oakhurstevfree.org
SUMMARY:Relay for Life
DESCRIPTION:See Event page for details about the event
URL:https://www.oakhurstevfree.org/calendar/relay-for-life-2/
LOCATION:Yosemite High School\, 50200 High School Road\, Oakhurst\, CA\, 93644\, United States
END:VEVENT
BEGIN:VEVENT
DTSTART;TZID=America/Los_Angeles:20170422T080000
DTEND;TZID=America/Los_Angeles:20170422T170000
DTSTAMP:20260419T145443
CREATED:20170422T164126Z
LAST-MODIFIED:20170422T164206Z
UID:5692-1492848000-1492880400@www.oakhurstevfree.org
SUMMARY:Men’s Lives at Steak
DESCRIPTION:A possible Men’s Lives at Steak on September 18th. \nThis date is tentative\, check back for more details as we get closer to the event date.
URL:https://www.oakhurstevfree.org/calendar/mens-lives-at-steak-3/
CATEGORIES:Men's Ministry
END:VEVENT
BEGIN:VEVENT
DTSTART;TZID=America/Los_Angeles:20170422T080000
DTEND;TZID=America/Los_Angeles:20170422T170000
DTSTAMP:20260419T145443
CREATED:20170422T162845Z
LAST-MODIFIED:20170422T163143Z
UID:5686-1492848000-1492880400@www.oakhurstevfree.org
SUMMARY:Nicolay Revtov Visit
DESCRIPTION:On July 22nd  through July 24th Nicolay Revtov\, the director of Heart to Heart (Evangelism Explosion) in Eurasia (which covers 11 different time zones) will be with us. Though plans have not yet been settled\, we would encourage you to come listen to and be challenged by this godly man.  More details to follow.
URL:https://www.oakhurstevfree.org/calendar/nicolay-revtov-visit/
CATEGORIES:Missionaries
END:VEVENT
BEGIN:VEVENT
DTSTART;TZID=America/Los_Angeles:20170422T080000
DTEND;TZID=America/Los_Angeles:20170422T170000
DTSTAMP:20260419T145443
CREATED:20170422T161833Z
LAST-MODIFIED:20170422T163131Z
UID:5683-1492848000-1492880400@www.oakhurstevfree.org
SUMMARY:Mission Awareness Month
DESCRIPTION:We are planning for September to be “Missions Awareness Month”.\n\nWe are planning a banquet on September 15th\nA huge parking lot sale at the church\nRecycling collection for the month\nand much more.\n\n  \nPlease be in prayer about this!
URL:https://www.oakhurstevfree.org/calendar/mission-awareness-month/
CATEGORIES:Missionaries
END:VEVENT
BEGIN:VEVENT
DTSTART;TZID=America/Los_Angeles:20170201T180000
DTEND;TZID=America/Los_Angeles:20170201T200000
DTSTAMP:20260419T145443
CREATED:20150204T024031Z
LAST-MODIFIED:20150204T212102Z
UID:1751-1485972000-1485979200@www.oakhurstevfree.org
SUMMARY:Phase 2 - HIgh School
DESCRIPTION:Our Phase2 high school group exists as a ministry of God’s church that seeks to build up the body of Christ here at OEFC (Ephesians 4:11-16). We primarily seek to partner with and supplement parents in their God-given responsibility to evangelize and disciple their children (Ephesians 6:4; Deuteronomy 6:4-9).
URL:https://www.oakhurstevfree.org/calendar/phase-2-high-school-2017-02-01/
ATTACH;FMTTYPE=image/jpeg:https://www.oakhurstevfree.org/wp-content/uploads/2014/10/Ministry-High-School.jpg
END:VEVENT
BEGIN:VEVENT
DTSTART;TZID=America/Los_Angeles:20161220T090000
DTEND;TZID=America/Los_Angeles:20161220T110000
DTSTAMP:20260419T145443
CREATED:20160323T193136Z
LAST-MODIFIED:20161002T153134Z
UID:4780-1482224400-1482231600@www.oakhurstevfree.org
SUMMARY:Mom's Time Out
DESCRIPTION:This is a place of encouragement\, fellowship and support for fellow believers\, and a place where non-believers can come to know Christ\, and grasp all that He has for them\, if they choose to believe.
URL:https://www.oakhurstevfree.org/calendar/moms-time-out/
CATEGORIES:MTO
END:VEVENT
BEGIN:VEVENT
DTSTART;TZID=America/Los_Angeles:20161206T090000
DTEND;TZID=America/Los_Angeles:20161206T110000
DTSTAMP:20260419T145443
CREATED:20160323T214540Z
LAST-MODIFIED:20161002T153418Z
UID:4793-1481014800-1481022000@www.oakhurstevfree.org
SUMMARY:Mom's Time Out
DESCRIPTION:This is a place of encouragement\, fellowship and support for fellow believers\, and a place where non-believers can come to know Christ\, and grasp all that He has for them\, if they choose to believe.
URL:https://www.oakhurstevfree.org/calendar/moms-time-out-12/
CATEGORIES:MTO
END:VEVENT
BEGIN:VEVENT
DTSTART;TZID=America/Los_Angeles:20161115T090000
DTEND;TZID=America/Los_Angeles:20161115T110000
DTSTAMP:20260419T145443
CREATED:20160323T214427Z
LAST-MODIFIED:20161002T153447Z
UID:4792-1479200400-1479207600@www.oakhurstevfree.org
SUMMARY:Mom's Time Out
DESCRIPTION:This is a place of encouragement\, fellowship and support for fellow believers\, and a place where non-believers can come to know Christ\, and grasp all that He has for them\, if they choose to believe.
URL:https://www.oakhurstevfree.org/calendar/moms-time-out-11/
CATEGORIES:MTO
END:VEVENT
BEGIN:VEVENT
DTSTART;TZID=America/Los_Angeles:20161101T090000
DTEND;TZID=America/Los_Angeles:20161101T110000
DTSTAMP:20260419T145443
CREATED:20160323T214335Z
LAST-MODIFIED:20161002T153233Z
UID:4791-1477990800-1477998000@www.oakhurstevfree.org
SUMMARY:Mom's Time Out
DESCRIPTION:This is a place of encouragement\, fellowship and support for fellow believers\, and a place where non-believers can come to know Christ\, and grasp all that He has for them\, if they choose to believe.
URL:https://www.oakhurstevfree.org/calendar/moms-time-out-10/
CATEGORIES:MTO
END:VEVENT
BEGIN:VEVENT
DTSTART;TZID=America/Los_Angeles:20161018T090000
DTEND;TZID=America/Los_Angeles:20161018T110000
DTSTAMP:20260419T145443
CREATED:20160323T214247Z
LAST-MODIFIED:20161002T153528Z
UID:4790-1476781200-1476788400@www.oakhurstevfree.org
SUMMARY:Mom's Time Out
DESCRIPTION:This is a place of encouragement\, fellowship and support for fellow believers\, and a place where non-believers can come to know Christ\, and grasp all that He has for them\, if they choose to believe.
URL:https://www.oakhurstevfree.org/calendar/moms-time-out-9/
CATEGORIES:MTO
END:VEVENT
BEGIN:VEVENT
DTSTART;TZID=America/Los_Angeles:20161004T090000
DTEND;TZID=America/Los_Angeles:20161004T110000
DTSTAMP:20260419T145443
CREATED:20160323T214146Z
LAST-MODIFIED:20161002T152804Z
UID:4789-1475571600-1475578800@www.oakhurstevfree.org
SUMMARY:Mom's Time Out
DESCRIPTION:This is a place of encouragement\, fellowship and support for fellow believers\, and a place where non-believers can come to know Christ\, and grasp all that He has for them\, if they choose to believe.
URL:https://www.oakhurstevfree.org/calendar/moms-time-out-8/
CATEGORIES:MTO
END:VEVENT
BEGIN:VEVENT
DTSTART;TZID=America/Los_Angeles:20160925T160000
DTEND;TZID=America/Los_Angeles:20160925T190000
DTSTAMP:20260419T145443
CREATED:20160726T210741Z
LAST-MODIFIED:20160726T210741Z
UID:5255-1474819200-1474830000@www.oakhurstevfree.org
SUMMARY:55 and Alive BBQ
DESCRIPTION:
URL:https://www.oakhurstevfree.org/calendar/55-and-alive-bbq/
LOCATION:Pastor Bob’s House\, 3955 Giant Oak Road\, Oakhurst\, CA\, 93644\, United States
CATEGORIES:Church Event
ATTACH;FMTTYPE=image/png:https://www.oakhurstevfree.org/wp-content/uploads/2014/10/Oakhurst-EVFREE-Header-Logo_sample.png
END:VEVENT
BEGIN:VEVENT
DTSTART;TZID=America/Los_Angeles:20160920T090000
DTEND;TZID=America/Los_Angeles:20160920T110000
DTSTAMP:20260419T145443
CREATED:20160323T214057Z
LAST-MODIFIED:20160323T214057Z
UID:4788-1474362000-1474369200@www.oakhurstevfree.org
SUMMARY:Mom's Time Out
DESCRIPTION:This is a place of encouragement\, fellowship and support for fellow believers\, and a place where non-believers can come to know Christ\, and grasp all that He has for them\, if they choose to believe.
URL:https://www.oakhurstevfree.org/calendar/moms-time-out-7/
LOCATION:Oakhurst EV Free Church\, 50443 School Rd.\, Oakhurst\, CA\, 93644\, United States
CATEGORIES:MTO
END:VEVENT
BEGIN:VEVENT
DTSTART;VALUE=DATE:20160909
DTEND;VALUE=DATE:20160912
DTSTAMP:20260419T145443
CREATED:20160810T154423Z
LAST-MODIFIED:20160810T154423Z
UID:5278-1473379200-1473638399@www.oakhurstevfree.org
SUMMARY:Men's Ministry Camping Trip
DESCRIPTION:
URL:https://www.oakhurstevfree.org/calendar/mens-ministry-camping-trip/
CATEGORIES:Men's Ministry
ATTACH;FMTTYPE=image/jpeg:https://www.oakhurstevfree.org/wp-content/uploads/2014/10/Ministry-Men1.jpg
END:VEVENT
BEGIN:VEVENT
DTSTART;TZID=America/Los_Angeles:20160906T090000
DTEND;TZID=America/Los_Angeles:20160906T110000
DTSTAMP:20260419T145443
CREATED:20160323T213958Z
LAST-MODIFIED:20160323T213958Z
UID:4787-1473152400-1473159600@www.oakhurstevfree.org
SUMMARY:Mom's Time Out
DESCRIPTION:This is a place of encouragement\, fellowship and support for fellow believers\, and a place where non-believers can come to know Christ\, and grasp all that He has for them\, if they choose to believe.
URL:https://www.oakhurstevfree.org/calendar/moms-time-out-6/
CATEGORIES:MTO
END:VEVENT
BEGIN:VEVENT
DTSTART;TZID=America/Los_Angeles:20160828T140000
DTEND;TZID=America/Los_Angeles:20160828T160000
DTSTAMP:20260419T145443
CREATED:20160715T005951Z
LAST-MODIFIED:20160715T005951Z
UID:5174-1472392800-1472400000@www.oakhurstevfree.org
SUMMARY:All Church Baptism and Picnic
DESCRIPTION:On Sunday\, August 28th\, following our church service\, we will be having our All Church Baptism and Picnic.  We will probably be meeting at Recreation Point at Bass Lake\, if they are through felling all the dead trees**.  If not\, we may have it at Pastor Bob’s house\, or somewhere else.  But the date is firm\, so if you need to follow our Lord’s example and command\, to be baptized (Matthew 28:18-20)\, please contact Pastor Bob at 683-2570 or Pastor Craig at 999-9211 and they will make the arrangements. \n  \nWhen we decide where we will have the baptism\, all of us will need to bring our own blankets\, chairs and picnic lunch (with utensils\, if needed).  So\, whether you’re being baptized or not\, a great and blessed time will be had by all!  So\, put Sunday\, August 28th from approximately 2 pm onward\, on your calendar.
URL:https://www.oakhurstevfree.org/calendar/all-church-baptism-and-picnic/
END:VEVENT
END:VCALENDAR