BEGIN:VCALENDAR
VERSION:2.0
PRODID:-//Oakhurst EVFree - ECPv6.15.20//NONSGML v1.0//EN
CALSCALE:GREGORIAN
METHOD:PUBLISH
X-WR-CALNAME:Oakhurst EVFree
X-ORIGINAL-URL:https://www.oakhurstevfree.org
X-WR-CALDESC:Events for Oakhurst EVFree
REFRESH-INTERVAL;VALUE=DURATION:PT1H
X-Robots-Tag:noindex
X-PUBLISHED-TTL:PT1H
BEGIN:VTIMEZONE
TZID:America/Los_Angeles
BEGIN:DAYLIGHT
TZOFFSETFROM:-0800
TZOFFSETTO:-0700
TZNAME:PDT
DTSTART:20140309T100000
END:DAYLIGHT
BEGIN:STANDARD
TZOFFSETFROM:-0700
TZOFFSETTO:-0800
TZNAME:PST
DTSTART:20141102T090000
END:STANDARD
BEGIN:DAYLIGHT
TZOFFSETFROM:-0800
TZOFFSETTO:-0700
TZNAME:PDT
DTSTART:20150308T100000
END:DAYLIGHT
BEGIN:STANDARD
TZOFFSETFROM:-0700
TZOFFSETTO:-0800
TZNAME:PST
DTSTART:20151101T090000
END:STANDARD
BEGIN:DAYLIGHT
TZOFFSETFROM:-0800
TZOFFSETTO:-0700
TZNAME:PDT
DTSTART:20160313T100000
END:DAYLIGHT
BEGIN:STANDARD
TZOFFSETFROM:-0700
TZOFFSETTO:-0800
TZNAME:PST
DTSTART:20161106T090000
END:STANDARD
END:VTIMEZONE
BEGIN:VEVENT
DTSTART;TZID=America/Los_Angeles:20150315T140000
DTEND;TZID=America/Los_Angeles:20150315T153000
DTSTAMP:20260420T221423
CREATED:20150121T012106Z
LAST-MODIFIED:20150121T235553Z
UID:1364-1426428000-1426433400@www.oakhurstevfree.org
SUMMARY:U4G Visitation Day
DESCRIPTION:You can come and join with the DTS teams and visit your family\, friends\, or neighbors.
URL:https://www.oakhurstevfree.org/calendar/u4g-visitation-day/
LOCATION:Awana Room
END:VEVENT
BEGIN:VEVENT
DTSTART;TZID=America/Los_Angeles:20150314T090000
DTEND;TZID=America/Los_Angeles:20150314T120000
DTSTAMP:20260420T221423
CREATED:20150116T114549Z
LAST-MODIFIED:20150116T114549Z
UID:1146-1426323600-1426334400@www.oakhurstevfree.org
SUMMARY:Renew
DESCRIPTION:Christ-Centered Sexual Abuse Recovery group for women.\nFor more information contact the Church office at (559) 683-2254.
URL:https://www.oakhurstevfree.org/calendar/renew-6/
CATEGORIES:Renew
ATTACH;FMTTYPE=image/png:https://www.oakhurstevfree.org/wp-content/uploads/2014/11/Renew.png
END:VEVENT
BEGIN:VEVENT
DTSTART;TZID=America/Los_Angeles:20150312T173000
DTEND;TZID=America/Los_Angeles:20150312T173000
DTSTAMP:20260420T221423
CREATED:20150116T195950Z
LAST-MODIFIED:20150116T195950Z
UID:1160-1426181400-1426181400@www.oakhurstevfree.org
SUMMARY:FCFO (Full Circle Family Outreach)
DESCRIPTION:Winter Homeless Shelter Ministry. Doors open at 5:30pm. Dinner is served at 6:00pm.
URL:https://www.oakhurstevfree.org/calendar/fcfo-full-circle-family-outreach-6/
END:VEVENT
BEGIN:VEVENT
DTSTART;TZID=America/Los_Angeles:20150311T180000
DTEND;TZID=America/Los_Angeles:20150311T200000
DTSTAMP:20260420T221423
CREATED:20150127T192705Z
LAST-MODIFIED:20150127T192705Z
UID:1552-1426096800-1426104000@www.oakhurstevfree.org
SUMMARY:Awana
DESCRIPTION:Awana theme tonight is Jammin’ in Your Yammies with Jesus. This is Movie Nite.
URL:https://www.oakhurstevfree.org/calendar/awana-7/
LOCATION:Awana Room
CATEGORIES:AWANA
ATTACH;FMTTYPE=image/png:https://www.oakhurstevfree.org/wp-content/uploads/2014/12/Awana-Clubs-Logo.png
END:VEVENT
BEGIN:VEVENT
DTSTART;TZID=America/Los_Angeles:20150307T090000
DTEND;TZID=America/Los_Angeles:20150307T120000
DTSTAMP:20260420T221423
CREATED:20150116T114452Z
LAST-MODIFIED:20150116T114452Z
UID:1144-1425718800-1425729600@www.oakhurstevfree.org
SUMMARY:Renew
DESCRIPTION:Christ-Centered Sexual Abuse Recovery group for women.\nFor more information contact the Church office at (559) 683-2254.
URL:https://www.oakhurstevfree.org/calendar/renew-5/
CATEGORIES:Renew
ATTACH;FMTTYPE=image/png:https://www.oakhurstevfree.org/wp-content/uploads/2014/11/Renew.png
END:VEVENT
BEGIN:VEVENT
DTSTART;TZID=America/Los_Angeles:20150305T173000
DTEND;TZID=America/Los_Angeles:20150305T173000
DTSTAMP:20260420T221423
CREATED:20150116T195848Z
LAST-MODIFIED:20150116T195848Z
UID:1159-1425576600-1425576600@www.oakhurstevfree.org
SUMMARY:FCFO (Full Circle Family Outreach)
DESCRIPTION:Winter Homeless Shelter Ministry. Doors open at 5:30pm. Dinner is served at 6:00pm.
URL:https://www.oakhurstevfree.org/calendar/fcfo-full-circle-family-outreach-5/
END:VEVENT
BEGIN:VEVENT
DTSTART;TZID=America/Los_Angeles:20150304T180000
DTEND;TZID=America/Los_Angeles:20150304T200000
DTSTAMP:20260420T221423
CREATED:20150127T192140Z
LAST-MODIFIED:20150127T192514Z
UID:1550-1425492000-1425499200@www.oakhurstevfree.org
SUMMARY:Awana
DESCRIPTION:Awana theme tonight is Mellow Yellow Nite. Don’t forget to wear yellow. \n  \n3rd Quarter Attendance Awards
URL:https://www.oakhurstevfree.org/calendar/awana-6/
LOCATION:Awana Room
CATEGORIES:AWANA
ATTACH;FMTTYPE=image/png:https://www.oakhurstevfree.org/wp-content/uploads/2014/12/Awana-Clubs-Logo.png
END:VEVENT
BEGIN:VEVENT
DTSTART;TZID=America/Los_Angeles:20150301T100000
DTEND;TZID=America/Los_Angeles:20150301T113000
DTSTAMP:20260420T221423
CREATED:20150209T185234Z
LAST-MODIFIED:20150209T185442Z
UID:2526-1425204000-1425209400@www.oakhurstevfree.org
SUMMARY:Communion Sunday
DESCRIPTION:On the 1st Sunday of each month we serve communion in remembrance of our Lord and Savior Jesus Christ.
URL:https://www.oakhurstevfree.org/calendar/communion-sunday/
CATEGORIES:Church Event
ATTACH;FMTTYPE=image/png:https://www.oakhurstevfree.org/wp-content/uploads/2015/02/Oakhurst-EVFREE-event-Logo_sample-e1422907921513.png
END:VEVENT
BEGIN:VEVENT
DTSTART;TZID=America/Los_Angeles:20150228T180000
DTEND;TZID=America/Los_Angeles:20150228T210000
DTSTAMP:20260420T221423
CREATED:20150129T180559Z
LAST-MODIFIED:20150207T202507Z
UID:1615-1425146400-1425157200@www.oakhurstevfree.org
SUMMARY:Family Movie Night
DESCRIPTION:Come and share a wonderful time as a family. We’ll be seeing “How to Train Your Dragon“. \n\nCome dressed up like the characters in the movie!\n For Example: \n -make viking armor and weapons out of cardboard (or even a boat)\n -come as a dragon or a sheep \n -Get creative and have fun!
URL:https://www.oakhurstevfree.org/calendar/family-movie-night-2/
LOCATION:Sanctuary
CATEGORIES:Church Event
ATTACH;FMTTYPE=image/png:https://www.oakhurstevfree.org/wp-content/uploads/2015/02/Oakhurst-EVFREE-event-Logo_sample-e1422907921513.png
END:VEVENT
BEGIN:VEVENT
DTSTART;TZID=America/Los_Angeles:20150228T090000
DTEND;TZID=America/Los_Angeles:20150228T120000
DTSTAMP:20260420T221423
CREATED:20150116T114327Z
LAST-MODIFIED:20150116T114327Z
UID:1142-1425114000-1425124800@www.oakhurstevfree.org
SUMMARY:Renew
DESCRIPTION:Christ-Centered Sexual Abuse Recovery group for women.\nFor more information contact the Church office at (559) 683-2254.
URL:https://www.oakhurstevfree.org/calendar/renew-4/
CATEGORIES:Renew
ATTACH;FMTTYPE=image/png:https://www.oakhurstevfree.org/wp-content/uploads/2014/11/Renew.png
END:VEVENT
BEGIN:VEVENT
DTSTART;TZID=America/Los_Angeles:20150227T160000
DTEND;TZID=America/Los_Angeles:20150227T210000
DTSTAMP:20260420T221423
CREATED:20150206T054212Z
LAST-MODIFIED:20150208T004341Z
UID:2266-1425052800-1425070800@www.oakhurstevfree.org
SUMMARY:Cross 2015 Simulcast
DESCRIPTION:Overcoming Obstacles\nand Opposition\nto the Advance of the Gospel.\nIs Satan winning? Between the growing hostility to Christianity in America and the troubling reality of unbelief among thousands of unreached people groups abroad\, it’s easy to feel as if the gospel is losing ground to the powers of sin and hell. And yet Jesus\, in Matthew 28:18\, said\, “all authority in heaven and on earth has been given to me.” For that reason\, God’s people\, despite discouraging circumstances and the very real prospect of suffering\, have the greatest reason for confidence and even joy. We serve an omnipotent God whose gospel kingdom is indomitable.
URL:https://www.oakhurstevfree.org/calendar/cross-2015-simulcast/
CATEGORIES:Church Event
ATTACH;FMTTYPE=image/png:https://www.oakhurstevfree.org/wp-content/uploads/2015/02/Oakhurst-EVFREE-event-Logo_sample-e1422907921513.png
END:VEVENT
BEGIN:VEVENT
DTSTART;TZID=America/Los_Angeles:20150226T173000
DTEND;TZID=America/Los_Angeles:20150226T173000
DTSTAMP:20260420T221423
CREATED:20150116T195727Z
LAST-MODIFIED:20150116T195727Z
UID:1158-1424971800-1424971800@www.oakhurstevfree.org
SUMMARY:FCFO (Full Circle Family Outreach)
DESCRIPTION:Winter Homeless Shelter Ministry. Doors open at 5:30pm. Dinner is served at 6:00pm.
URL:https://www.oakhurstevfree.org/calendar/fcfo-full-circle-family-outreach-4/
END:VEVENT
BEGIN:VEVENT
DTSTART;TZID=America/Los_Angeles:20150225T180000
DTEND;TZID=America/Los_Angeles:20150225T200000
DTSTAMP:20260420T221423
CREATED:20150127T191838Z
LAST-MODIFIED:20150127T192356Z
UID:1549-1424887200-1424894400@www.oakhurstevfree.org
SUMMARY:Awana
DESCRIPTION:Awana theme tonight is Twinkie Nite. Dress up like twins
URL:https://www.oakhurstevfree.org/calendar/awana-5/
LOCATION:Awana Room
CATEGORIES:AWANA
ATTACH;FMTTYPE=image/png:https://www.oakhurstevfree.org/wp-content/uploads/2014/12/Awana-Clubs-Logo.png
END:VEVENT
BEGIN:VEVENT
DTSTART;TZID=America/Los_Angeles:20150222T100000
DTEND;TZID=America/Los_Angeles:20150222T113000
DTSTAMP:20260420T221424
CREATED:20150212T014953Z
LAST-MODIFIED:20150212T015228Z
UID:2579-1424599200-1424604600@www.oakhurstevfree.org
SUMMARY:Von's & Raley's Escrip and SmileAmazon Signup
DESCRIPTION:EScrip and SmileAmazon Signups in the Conference Room\nThere will be computers setup in the conference Room before and after church for anyone who wants to signup for Von’s\, Raley’s and SmileAmazon Donation programs. \nAll of these programs are FREE to sign up and FREE to use. As you do your normal shopping at these merchants they automatically donate a percentage of your purchase amount back to OEFC. The prices of all products are the same whether you are in the program or not. \nThis is a big win for the Merchant\, for you and for OEFC. Best of all it only takes you to signup at no COST and there will be help in the conference Room if you need it.
URL:https://www.oakhurstevfree.org/calendar/2579/
LOCATION:Conference Room
CATEGORIES:Church Event
ATTACH;FMTTYPE=image/png:https://www.oakhurstevfree.org/wp-content/uploads/2015/02/Oakhurst-EVFREE-event-Logo_sample-e1422907921513.png
END:VEVENT
BEGIN:VEVENT
DTSTART;TZID=America/Los_Angeles:20150221T090000
DTEND;TZID=America/Los_Angeles:20150221T120000
DTSTAMP:20260420T221424
CREATED:20150116T114126Z
LAST-MODIFIED:20150116T114126Z
UID:1140-1424509200-1424520000@www.oakhurstevfree.org
SUMMARY:Renew
DESCRIPTION:Christ-Centered Sexual Abuse Recovery group for women.\nFor more information contact the Church office at (559) 683-2254.
URL:https://www.oakhurstevfree.org/calendar/renew-3/
CATEGORIES:Renew
ATTACH;FMTTYPE=image/png:https://www.oakhurstevfree.org/wp-content/uploads/2014/11/Renew.png
END:VEVENT
BEGIN:VEVENT
DTSTART;TZID=America/Los_Angeles:20150219T173000
DTEND;TZID=America/Los_Angeles:20150219T173000
DTSTAMP:20260420T221424
CREATED:20150116T195559Z
LAST-MODIFIED:20150116T195559Z
UID:1156-1424367000-1424367000@www.oakhurstevfree.org
SUMMARY:FCFO (Full Circle Family Outreach)
DESCRIPTION:Winter Homeless Shelter Ministry. Doors open at 5:30pm. Dinner is served at 6:00pm.
URL:https://www.oakhurstevfree.org/calendar/fcfo-full-circle-family-outreach-3/
LOCATION:Oakhurst EV Free Church\, 50443 School Rd.\, Oakhurst\, CA\, 93644\, United States
END:VEVENT
BEGIN:VEVENT
DTSTART;TZID=America/Los_Angeles:20150215T100000
DTEND;TZID=America/Los_Angeles:20150215T113000
DTSTAMP:20260420T221424
CREATED:20150209T185046Z
LAST-MODIFIED:20160723T013547Z
UID:2422-1423994400-1423999800@www.oakhurstevfree.org
SUMMARY:Church Service
DESCRIPTION:  \nSunday Morning Service – 10:00 am to 11:30 am\nSenior Pastor Bob Johnson teaches each week directly from God’s Word in a linear\, expository format with special sermons for Easter\, Mother’s Day\, Father’s Day\, Christmas and the like. Associate Pastor Craig Shigyo Preaches every fourth Sunday of the Month. Pastor Assistant Steve Riley preaches the fifth Sunday in those months with five Sundays. \nChildren’s Church \n\n3-4 years old – Room 4\nKindergarten to 2nd Grade – Room 3\n3rd to 6th grade – Awana Room\nNursery
URL:https://www.oakhurstevfree.org/calendar/church-service/
CATEGORIES:Church Event
ATTACH;FMTTYPE=image/png:https://www.oakhurstevfree.org/wp-content/uploads/2015/02/Oakhurst-EVFREE-event-Logo_sample-e1422907921513.png
END:VEVENT
END:VCALENDAR