BEGIN:VCALENDAR
VERSION:2.0
PRODID:-//Oakhurst EVFree - ECPv6.15.20//NONSGML v1.0//EN
CALSCALE:GREGORIAN
METHOD:PUBLISH
X-WR-CALNAME:Oakhurst EVFree
X-ORIGINAL-URL:https://www.oakhurstevfree.org
X-WR-CALDESC:Events for Oakhurst EVFree
REFRESH-INTERVAL;VALUE=DURATION:PT1H
X-Robots-Tag:noindex
X-PUBLISHED-TTL:PT1H
BEGIN:VTIMEZONE
TZID:America/Los_Angeles
BEGIN:DAYLIGHT
TZOFFSETFROM:-0800
TZOFFSETTO:-0700
TZNAME:PDT
DTSTART:20140309T100000
END:DAYLIGHT
BEGIN:STANDARD
TZOFFSETFROM:-0700
TZOFFSETTO:-0800
TZNAME:PST
DTSTART:20141102T090000
END:STANDARD
BEGIN:DAYLIGHT
TZOFFSETFROM:-0800
TZOFFSETTO:-0700
TZNAME:PDT
DTSTART:20150308T100000
END:DAYLIGHT
BEGIN:STANDARD
TZOFFSETFROM:-0700
TZOFFSETTO:-0800
TZNAME:PST
DTSTART:20151101T090000
END:STANDARD
BEGIN:DAYLIGHT
TZOFFSETFROM:-0800
TZOFFSETTO:-0700
TZNAME:PDT
DTSTART:20160313T100000
END:DAYLIGHT
BEGIN:STANDARD
TZOFFSETFROM:-0700
TZOFFSETTO:-0800
TZNAME:PST
DTSTART:20161106T090000
END:STANDARD
END:VTIMEZONE
BEGIN:VEVENT
DTSTART;TZID=America/Los_Angeles:20150503T140000
DTEND;TZID=America/Los_Angeles:20150503T153000
DTSTAMP:20260420T210403
CREATED:20150121T012522Z
LAST-MODIFIED:20150228T174826Z
UID:1368-1430661600-1430667000@www.oakhurstevfree.org
SUMMARY:U4G Visitation Day
DESCRIPTION:You can come and join with the DTS team and visit your family\, friends\, or neighbors.
URL:https://www.oakhurstevfree.org/calendar/u4g-visitation-day-5/
LOCATION:Awana Room
END:VEVENT
BEGIN:VEVENT
DTSTART;TZID=America/Los_Angeles:20150429T180000
DTEND;TZID=America/Los_Angeles:20150429T200000
DTSTAMP:20260420T210403
CREATED:20150127T194649Z
LAST-MODIFIED:20150127T194649Z
UID:1562-1430330400-1430337600@www.oakhurstevfree.org
SUMMARY:Awana
DESCRIPTION:Awana theme tonight is Hero Nite. Dress as a Soldier\, Fireman or Policeman.
URL:https://www.oakhurstevfree.org/calendar/awana-14/
LOCATION:Awana Room
CATEGORIES:AWANA
ATTACH;FMTTYPE=image/png:https://www.oakhurstevfree.org/wp-content/uploads/2014/12/Awana-Clubs-Logo.png
END:VEVENT
BEGIN:VEVENT
DTSTART;TZID=America/Los_Angeles:20150426T140000
DTEND;TZID=America/Los_Angeles:20150426T153000
DTSTAMP:20260420T210403
CREATED:20150121T012426Z
LAST-MODIFIED:20150121T235805Z
UID:1367-1430056800-1430062200@www.oakhurstevfree.org
SUMMARY:U4G Visitation Day
DESCRIPTION:You can come and join with the DTS teams and visit your family\, friends\, or neighbors.
URL:https://www.oakhurstevfree.org/calendar/u4g-visitation-day-4/
LOCATION:Awana Room
END:VEVENT
BEGIN:VEVENT
DTSTART;TZID=America/Los_Angeles:20150422T180000
DTEND;TZID=America/Los_Angeles:20150422T200000
DTSTAMP:20260420T210403
CREATED:20150127T194537Z
LAST-MODIFIED:20150127T194537Z
UID:1561-1429725600-1429732800@www.oakhurstevfree.org
SUMMARY:Awana
DESCRIPTION:Awana theme tonight is Pirate Nite.
URL:https://www.oakhurstevfree.org/calendar/awana-13/
LOCATION:Awana Room
CATEGORIES:AWANA
ATTACH;FMTTYPE=image/png:https://www.oakhurstevfree.org/wp-content/uploads/2014/12/Awana-Clubs-Logo.png
END:VEVENT
BEGIN:VEVENT
DTSTART;TZID=America/Los_Angeles:20150415T180000
DTEND;TZID=America/Los_Angeles:20150415T200000
DTSTAMP:20260420T210403
CREATED:20150127T194422Z
LAST-MODIFIED:20150127T194422Z
UID:1560-1429120800-1429128000@www.oakhurstevfree.org
SUMMARY:Awana
DESCRIPTION:Awana theme tonight is Honor Your Dad Nite.
URL:https://www.oakhurstevfree.org/calendar/awana-12/
LOCATION:Awana Room
CATEGORIES:AWANA
ATTACH;FMTTYPE=image/png:https://www.oakhurstevfree.org/wp-content/uploads/2014/12/Awana-Clubs-Logo.png
END:VEVENT
BEGIN:VEVENT
DTSTART;TZID=America/Los_Angeles:20150412T140000
DTEND;TZID=America/Los_Angeles:20150412T153000
DTSTAMP:20260420T210403
CREATED:20150121T012316Z
LAST-MODIFIED:20150121T235714Z
UID:1366-1428847200-1428852600@www.oakhurstevfree.org
SUMMARY:U4G Visitation Day
DESCRIPTION:You can come and join with the DTS teams and visit your family\, friends\, or neighbors.
URL:https://www.oakhurstevfree.org/calendar/u4g-visitation-day-3/
LOCATION:Awana Room
END:VEVENT
BEGIN:VEVENT
DTSTART;TZID=America/Los_Angeles:20150412T084500
DTEND;TZID=America/Los_Angeles:20150412T094500
DTSTAMP:20260420T210403
CREATED:20150209T002138Z
LAST-MODIFIED:20150324T212256Z
UID:2325-1428828300-1428831900@www.oakhurstevfree.org
SUMMARY:Sunday School
DESCRIPTION:Sunday School – 8:45 am to 9:45 pm\n*Classes may be combined depending on current number of students \n\nAmbassadors – Study of “The Parables” meets in the Conference Room\nHomebuilders – Family class\,  “God as He longs for you to see Him”\, meets in the Room 2\nScripture Fundamentals – College and Career (but all are welcome)\, meets in Room 9\nHigh School – Room 1\nJunior High – Room 1\nKindergarten to 6th Grade – Room 8
URL:https://www.oakhurstevfree.org/calendar/sunday-school-2015-04-12/
CATEGORIES:Church Event
ATTACH;FMTTYPE=image/png:https://www.oakhurstevfree.org/wp-content/uploads/2015/02/Oakhurst-EVFREE-event-Logo_sample-e1422907921513.png
END:VEVENT
BEGIN:VEVENT
DTSTART;TZID=America/Los_Angeles:20150408T180000
DTEND;TZID=America/Los_Angeles:20150408T200000
DTSTAMP:20260420T210403
CREATED:20150127T194246Z
LAST-MODIFIED:20150127T194246Z
UID:1559-1428516000-1428523200@www.oakhurstevfree.org
SUMMARY:Awana
DESCRIPTION:Awana theme tonight is Am I Blue? Don’t forget to wear blue.
URL:https://www.oakhurstevfree.org/calendar/awana-11/
LOCATION:Awana Room
CATEGORIES:AWANA
ATTACH;FMTTYPE=image/png:https://www.oakhurstevfree.org/wp-content/uploads/2014/12/Awana-Clubs-Logo.png
END:VEVENT
BEGIN:VEVENT
DTSTART;TZID=America/Los_Angeles:20150405T090000
DTEND;TZID=America/Los_Angeles:20150405T113000
DTSTAMP:20260420T210403
CREATED:20150324T211409Z
LAST-MODIFIED:20150324T212027Z
UID:2784-1428224400-1428233400@www.oakhurstevfree.org
SUMMARY:Resurrection Sunday - NO Sunday School
DESCRIPTION:Continental Breakfast at 9:00am \nWorship Service 10:00am
URL:https://www.oakhurstevfree.org/calendar/resurrection-sunday-no-sunday-school/
LOCATION:Sanctuary
CATEGORIES:Church Event
ATTACH;FMTTYPE=image/png:https://www.oakhurstevfree.org/wp-content/uploads/2015/02/Oakhurst-EVFREE-event-Logo_sample-e1422907921513.png
END:VEVENT
BEGIN:VEVENT
DTSTART;TZID=America/Los_Angeles:20150405T084500
DTEND;TZID=America/Los_Angeles:20150405T094500
DTSTAMP:20260420T210403
CREATED:20150209T002138Z
LAST-MODIFIED:20150324T211642Z
UID:2758-1428223500-1428227100@www.oakhurstevfree.org
SUMMARY:Sunday School - NO Sunday School (Resurrection Sunday)
DESCRIPTION:Sunday School – 8:45 am to 9:45 pm\n*Classes may be combined depending on current number of students \n\nAmbassadors – Study of “The Parables” meets in the Conference Room\nHomebuilders – Family class\,  “God as He longs for you to see Him”\, meets in the Room 2\nScripture Fundamentals – College and Career (but all are welcome)\, meets in Room 9\nHigh School – Room 1\nJunior High – Room 1\nKindergarten to 6th Grade – Room 8
URL:https://www.oakhurstevfree.org/calendar/sunday-school-2017-03-12/
CATEGORIES:Church Event
ATTACH;FMTTYPE=image/png:https://www.oakhurstevfree.org/wp-content/uploads/2015/02/Oakhurst-EVFREE-event-Logo_sample-e1422907921513.png
END:VEVENT
BEGIN:VEVENT
DTSTART;TZID=America/Los_Angeles:20150401T180000
DTEND;TZID=America/Los_Angeles:20150401T200000
DTSTAMP:20260420T210403
CREATED:20150127T193540Z
LAST-MODIFIED:20150127T193604Z
UID:1557-1427911200-1427918400@www.oakhurstevfree.org
SUMMARY:Awana
DESCRIPTION:NO AWANA CLUB TONIGHT
URL:https://www.oakhurstevfree.org/calendar/awana-10/
CATEGORIES:AWANA
ATTACH;FMTTYPE=image/png:https://www.oakhurstevfree.org/wp-content/uploads/2014/12/Awana-Clubs-Logo.png
END:VEVENT
BEGIN:VEVENT
DTSTART;TZID=America/Los_Angeles:20150329T140000
DTEND;TZID=America/Los_Angeles:20150329T153000
DTSTAMP:20260420T210403
CREATED:20150121T012209Z
LAST-MODIFIED:20150121T235734Z
UID:1365-1427637600-1427643000@www.oakhurstevfree.org
SUMMARY:U4G Visitation Day
DESCRIPTION:You can come and join with the DTS teams and visit your family\, friends\, or neighbors.
URL:https://www.oakhurstevfree.org/calendar/u4g-visitation-day-2/
LOCATION:Awana Room
END:VEVENT
BEGIN:VEVENT
DTSTART;TZID=America/Los_Angeles:20150329T084500
DTEND;TZID=America/Los_Angeles:20150329T094500
DTSTAMP:20260420T210403
CREATED:20150324T144921Z
LAST-MODIFIED:20150324T144921Z
UID:2781-1427618700-1427622300@www.oakhurstevfree.org
SUMMARY:All Church Prayer Time
DESCRIPTION:Come join us as the entire church is invited to come together to PRAY. We will be meeting in the Awana Room during the usual Sunday School time. There will not be regular Sunday School classes today.
URL:https://www.oakhurstevfree.org/calendar/all-church-prayer-time-2/
LOCATION:Awana Room
CATEGORIES:Church Event
ATTACH;FMTTYPE=image/jpeg:https://www.oakhurstevfree.org/wp-content/uploads/2014/10/Ministry-Men1.jpg
END:VEVENT
BEGIN:VEVENT
DTSTART;TZID=America/Los_Angeles:20150329T084500
DTEND;TZID=America/Los_Angeles:20150329T094500
DTSTAMP:20260420T210403
CREATED:20150209T002138Z
LAST-MODIFIED:20150324T212449Z
UID:2323-1427618700-1427622300@www.oakhurstevfree.org
SUMMARY:Sunday School
DESCRIPTION:Sunday School – 8:45 am to 9:45 pm\n*Classes may be combined depending on current number of students \n\nAmbassadors – Study of “The Parables” meets in the Conference Room\nHomebuilders – Family class\,  “God as He longs for you to see Him”\, meets in the Room 2\nScripture Fundamentals – College and Career (but all are welcome)\, meets in Room 9\nHigh School – Room 1\nJunior High – Room 1\nKindergarten to 6th Grade – Room 8
URL:https://www.oakhurstevfree.org/calendar/sunday-school-2015-03-29/
CATEGORIES:Church Event
ATTACH;FMTTYPE=image/png:https://www.oakhurstevfree.org/wp-content/uploads/2015/02/Oakhurst-EVFREE-event-Logo_sample-e1422907921513.png
END:VEVENT
BEGIN:VEVENT
DTSTART;TZID=America/Los_Angeles:20150329T084500
DTEND;TZID=America/Los_Angeles:20150329T094500
DTSTAMP:20260420T210403
CREATED:20150209T002138Z
LAST-MODIFIED:20150324T212557Z
UID:2769-1427618700-1427622300@www.oakhurstevfree.org
SUMMARY:Sunday School - No Classes today (All Church Prayer time)
DESCRIPTION:
URL:https://www.oakhurstevfree.org/calendar/sunday-school-2017-03-19/
CATEGORIES:Church Event
ATTACH;FMTTYPE=image/png:https://www.oakhurstevfree.org/wp-content/uploads/2015/02/Oakhurst-EVFREE-event-Logo_sample-e1422907921513.png
END:VEVENT
BEGIN:VEVENT
DTSTART;TZID=America/Los_Angeles:20150326T173000
DTEND;TZID=America/Los_Angeles:20150326T173000
DTSTAMP:20260420T210403
CREATED:20150116T200230Z
LAST-MODIFIED:20150116T200230Z
UID:1162-1427391000-1427391000@www.oakhurstevfree.org
SUMMARY:FCFO (Full Circle Family Outreach)
DESCRIPTION:Winter Homeless Shelter Ministry. Doors open at 5:30pm. Dinner is served at 6:00pm.
URL:https://www.oakhurstevfree.org/calendar/fcfo-full-circle-family-outreach-8/
END:VEVENT
BEGIN:VEVENT
DTSTART;TZID=America/Los_Angeles:20150325T060000
DTEND;TZID=America/Los_Angeles:20150325T200000
DTSTAMP:20260420T210404
CREATED:20150127T193438Z
LAST-MODIFIED:20150127T193438Z
UID:1556-1427263200-1427313600@www.oakhurstevfree.org
SUMMARY:Awana
DESCRIPTION:Awana theme tonight is Dress as your Favorite Bible Character.
URL:https://www.oakhurstevfree.org/calendar/awana-9/
LOCATION:Awana Room
CATEGORIES:AWANA
ATTACH;FMTTYPE=image/png:https://www.oakhurstevfree.org/wp-content/uploads/2014/12/Awana-Clubs-Logo.png
END:VEVENT
BEGIN:VEVENT
DTSTART;TZID=America/Los_Angeles:20150322T113000
DTEND;TZID=America/Los_Angeles:20150322T120000
DTSTAMP:20260420T210404
CREATED:20150304T214756Z
LAST-MODIFIED:20150304T214756Z
UID:2702-1427023800-1427025600@www.oakhurstevfree.org
SUMMARY:Relay For Life Introductory Meeting
DESCRIPTION:Come join us for a brief Introductory Meeting about the upcoming Relay For Life Event. See how you can participate in the wonderful event. \nWays to participate include: \n– Join a Team \n– Help Decorate \n– Derby car construction \n– Come out and experience the event and cheer us on \n– Help set up and/or take down \n– Donate \n– Pray for the Event and the OEFC Team “Faithful Friends”
URL:https://www.oakhurstevfree.org/calendar/relay-for-life-introductory-meeting/
LOCATION:Conference Room
CATEGORIES:Relay for Life
END:VEVENT
BEGIN:VEVENT
DTSTART;TZID=America/Los_Angeles:20150319T173000
DTEND;TZID=America/Los_Angeles:20150319T173000
DTSTAMP:20260420T210404
CREATED:20150116T200120Z
LAST-MODIFIED:20150116T200120Z
UID:1161-1426786200-1426786200@www.oakhurstevfree.org
SUMMARY:FCFO (Full Circle Family Outreach)
DESCRIPTION:Winter Homeless Shelter Ministry. Doors open at 5:30pm. Dinner is served at 6:00pm.
URL:https://www.oakhurstevfree.org/calendar/fcfo-full-circle-family-outreach-7/
END:VEVENT
BEGIN:VEVENT
DTSTART;TZID=America/Los_Angeles:20150318T180000
DTEND;TZID=America/Los_Angeles:20150318T200000
DTSTAMP:20260420T210404
CREATED:20150127T192830Z
LAST-MODIFIED:20150127T192830Z
UID:1553-1426701600-1426708800@www.oakhurstevfree.org
SUMMARY:Awana
DESCRIPTION:Awana theme tonight is Canned Food Drive.
URL:https://www.oakhurstevfree.org/calendar/awana-8/
LOCATION:Awana Room
CATEGORIES:AWANA
ATTACH;FMTTYPE=image/png:https://www.oakhurstevfree.org/wp-content/uploads/2014/12/Awana-Clubs-Logo.png
END:VEVENT
BEGIN:VEVENT
DTSTART;TZID=America/Los_Angeles:20150315T140000
DTEND;TZID=America/Los_Angeles:20150315T153000
DTSTAMP:20260420T210404
CREATED:20150121T012106Z
LAST-MODIFIED:20150121T235553Z
UID:1364-1426428000-1426433400@www.oakhurstevfree.org
SUMMARY:U4G Visitation Day
DESCRIPTION:You can come and join with the DTS teams and visit your family\, friends\, or neighbors.
URL:https://www.oakhurstevfree.org/calendar/u4g-visitation-day/
LOCATION:Awana Room
END:VEVENT
BEGIN:VEVENT
DTSTART;TZID=America/Los_Angeles:20150314T090000
DTEND;TZID=America/Los_Angeles:20150314T120000
DTSTAMP:20260420T210404
CREATED:20150116T114549Z
LAST-MODIFIED:20150116T114549Z
UID:1146-1426323600-1426334400@www.oakhurstevfree.org
SUMMARY:Renew
DESCRIPTION:Christ-Centered Sexual Abuse Recovery group for women.\nFor more information contact the Church office at (559) 683-2254.
URL:https://www.oakhurstevfree.org/calendar/renew-6/
CATEGORIES:Renew
ATTACH;FMTTYPE=image/png:https://www.oakhurstevfree.org/wp-content/uploads/2014/11/Renew.png
END:VEVENT
BEGIN:VEVENT
DTSTART;TZID=America/Los_Angeles:20150312T173000
DTEND;TZID=America/Los_Angeles:20150312T173000
DTSTAMP:20260420T210404
CREATED:20150116T195950Z
LAST-MODIFIED:20150116T195950Z
UID:1160-1426181400-1426181400@www.oakhurstevfree.org
SUMMARY:FCFO (Full Circle Family Outreach)
DESCRIPTION:Winter Homeless Shelter Ministry. Doors open at 5:30pm. Dinner is served at 6:00pm.
URL:https://www.oakhurstevfree.org/calendar/fcfo-full-circle-family-outreach-6/
END:VEVENT
BEGIN:VEVENT
DTSTART;TZID=America/Los_Angeles:20150311T180000
DTEND;TZID=America/Los_Angeles:20150311T200000
DTSTAMP:20260420T210404
CREATED:20150127T192705Z
LAST-MODIFIED:20150127T192705Z
UID:1552-1426096800-1426104000@www.oakhurstevfree.org
SUMMARY:Awana
DESCRIPTION:Awana theme tonight is Jammin’ in Your Yammies with Jesus. This is Movie Nite.
URL:https://www.oakhurstevfree.org/calendar/awana-7/
LOCATION:Awana Room
CATEGORIES:AWANA
ATTACH;FMTTYPE=image/png:https://www.oakhurstevfree.org/wp-content/uploads/2014/12/Awana-Clubs-Logo.png
END:VEVENT
BEGIN:VEVENT
DTSTART;TZID=America/Los_Angeles:20150307T090000
DTEND;TZID=America/Los_Angeles:20150307T120000
DTSTAMP:20260420T210404
CREATED:20150116T114452Z
LAST-MODIFIED:20150116T114452Z
UID:1144-1425718800-1425729600@www.oakhurstevfree.org
SUMMARY:Renew
DESCRIPTION:Christ-Centered Sexual Abuse Recovery group for women.\nFor more information contact the Church office at (559) 683-2254.
URL:https://www.oakhurstevfree.org/calendar/renew-5/
CATEGORIES:Renew
ATTACH;FMTTYPE=image/png:https://www.oakhurstevfree.org/wp-content/uploads/2014/11/Renew.png
END:VEVENT
BEGIN:VEVENT
DTSTART;TZID=America/Los_Angeles:20150305T173000
DTEND;TZID=America/Los_Angeles:20150305T173000
DTSTAMP:20260420T210404
CREATED:20150116T195848Z
LAST-MODIFIED:20150116T195848Z
UID:1159-1425576600-1425576600@www.oakhurstevfree.org
SUMMARY:FCFO (Full Circle Family Outreach)
DESCRIPTION:Winter Homeless Shelter Ministry. Doors open at 5:30pm. Dinner is served at 6:00pm.
URL:https://www.oakhurstevfree.org/calendar/fcfo-full-circle-family-outreach-5/
END:VEVENT
BEGIN:VEVENT
DTSTART;TZID=America/Los_Angeles:20150304T180000
DTEND;TZID=America/Los_Angeles:20150304T200000
DTSTAMP:20260420T210404
CREATED:20150127T192140Z
LAST-MODIFIED:20150127T192514Z
UID:1550-1425492000-1425499200@www.oakhurstevfree.org
SUMMARY:Awana
DESCRIPTION:Awana theme tonight is Mellow Yellow Nite. Don’t forget to wear yellow. \n  \n3rd Quarter Attendance Awards
URL:https://www.oakhurstevfree.org/calendar/awana-6/
LOCATION:Awana Room
CATEGORIES:AWANA
ATTACH;FMTTYPE=image/png:https://www.oakhurstevfree.org/wp-content/uploads/2014/12/Awana-Clubs-Logo.png
END:VEVENT
BEGIN:VEVENT
DTSTART;TZID=America/Los_Angeles:20150301T100000
DTEND;TZID=America/Los_Angeles:20150301T113000
DTSTAMP:20260420T210404
CREATED:20150209T185234Z
LAST-MODIFIED:20150209T185442Z
UID:2526-1425204000-1425209400@www.oakhurstevfree.org
SUMMARY:Communion Sunday
DESCRIPTION:On the 1st Sunday of each month we serve communion in remembrance of our Lord and Savior Jesus Christ.
URL:https://www.oakhurstevfree.org/calendar/communion-sunday/
CATEGORIES:Church Event
ATTACH;FMTTYPE=image/png:https://www.oakhurstevfree.org/wp-content/uploads/2015/02/Oakhurst-EVFREE-event-Logo_sample-e1422907921513.png
END:VEVENT
BEGIN:VEVENT
DTSTART;TZID=America/Los_Angeles:20150228T180000
DTEND;TZID=America/Los_Angeles:20150228T210000
DTSTAMP:20260420T210404
CREATED:20150129T180559Z
LAST-MODIFIED:20150207T202507Z
UID:1615-1425146400-1425157200@www.oakhurstevfree.org
SUMMARY:Family Movie Night
DESCRIPTION:Come and share a wonderful time as a family. We’ll be seeing “How to Train Your Dragon“. \n\nCome dressed up like the characters in the movie!\n For Example: \n -make viking armor and weapons out of cardboard (or even a boat)\n -come as a dragon or a sheep \n -Get creative and have fun!
URL:https://www.oakhurstevfree.org/calendar/family-movie-night-2/
LOCATION:Sanctuary
CATEGORIES:Church Event
ATTACH;FMTTYPE=image/png:https://www.oakhurstevfree.org/wp-content/uploads/2015/02/Oakhurst-EVFREE-event-Logo_sample-e1422907921513.png
END:VEVENT
BEGIN:VEVENT
DTSTART;TZID=America/Los_Angeles:20150228T090000
DTEND;TZID=America/Los_Angeles:20150228T120000
DTSTAMP:20260420T210404
CREATED:20150116T114327Z
LAST-MODIFIED:20150116T114327Z
UID:1142-1425114000-1425124800@www.oakhurstevfree.org
SUMMARY:Renew
DESCRIPTION:Christ-Centered Sexual Abuse Recovery group for women.\nFor more information contact the Church office at (559) 683-2254.
URL:https://www.oakhurstevfree.org/calendar/renew-4/
CATEGORIES:Renew
ATTACH;FMTTYPE=image/png:https://www.oakhurstevfree.org/wp-content/uploads/2014/11/Renew.png
END:VEVENT
END:VCALENDAR